BEGIN:VCALENDAR
VERSION:2.0
PRODID:Events Booking
BEGIN:VEVENT
UID:68dca7c836669
SUMMARY:XXVII CURSO DE ELECTROMIOGRAFÍA BÁSICA PARA NEURÓLOGOS
DESCRIPTION:Más información
 Con el Aval Docente de la SEN
LOCATION:Madrid
DTSTART:20250423T000000Z
DTEND:20250425T000000Z
DTSTAMP:20250407T125452Z
ORGANIZER;CN=Sociedad Española de Neurología:MAILTO:web.sen@sen.org.es
GEO:40.4165;-3.70256
X-APPLE-STRUCTURED-LOCATION;VALUE=URI;X-ADDRESS=Madrid;X-APPLE-RADIUS=72;X-
 TITLE=Madrid:40.4165;-3.70256
END:VEVENT
END:VCALENDAR